BEGIN:VCALENDAR
VERSION:2.0
PRODID:-//Esther Allen - ECPv6.15.1.1//NONSGML v1.0//EN
CALSCALE:GREGORIAN
METHOD:PUBLISH
X-WR-CALNAME:Esther Allen
X-ORIGINAL-URL:https://estherallen.com
X-WR-CALDESC:Events for Esther Allen
REFRESH-INTERVAL;VALUE=DURATION:PT1H
X-Robots-Tag:noindex
X-PUBLISHED-TTL:PT1H
BEGIN:VTIMEZONE
TZID:America/New_York
BEGIN:DAYLIGHT
TZOFFSETFROM:-0500
TZOFFSETTO:-0400
TZNAME:EDT
DTSTART:20150308T070000
END:DAYLIGHT
BEGIN:STANDARD
TZOFFSETFROM:-0400
TZOFFSETTO:-0500
TZNAME:EST
DTSTART:20151101T060000
END:STANDARD
END:VTIMEZONE
BEGIN:VEVENT
DTSTART;TZID=America/New_York:20150326T173000
DTEND;TZID=America/New_York:20150326T184500
DTSTAMP:20260421T075653
CREATED:20150317T123017Z
LAST-MODIFIED:20150317T123017Z
UID:6451-1427391000-1427395500@estherallen.com
SUMMARY:Mañach's Martí
DESCRIPTION:At least 42 biographies of José Martí have been written and published in Spanish or English during the 20th and 21st centuries. Among them all\, Manach’s Martí\, el Apóstol (1933) is unquestionably the one that has had the most widespread and en- during impact. Though rejected on the island during the initial years of the Castro era\, it was eventually espoused even by leading martianos of the Castro Revolution such as Luis Toledo Sande\, himself the author of a Martí biography. What is it about Mañach’s biography that accounts for this longstanding primacy\, and what does that mean for our understanding of Martí?
URL:https://estherallen.com/event/manachs-marti/
LOCATION:University of Connecticut at Storrs\, Oak Hall\, 236\, Storrs\, CT\, United States
GEO:41.8074492;-72.2511617
X-APPLE-STRUCTURED-LOCATION;VALUE=URI;X-ADDRESS=University of Connecticut at Storrs Oak Hall 236 Storrs CT United States;X-APPLE-RADIUS=500;X-TITLE=Oak Hall\, 236:geo:-72.2511617,41.8074492
END:VEVENT
END:VCALENDAR