BEGIN:VCALENDAR
VERSION:2.0
PRODID:-//Esther Allen - ECPv6.15.1.1//NONSGML v1.0//EN
CALSCALE:GREGORIAN
METHOD:PUBLISH
X-WR-CALNAME:Esther Allen
X-ORIGINAL-URL:https://estherallen.com
X-WR-CALDESC:Events for Esther Allen
REFRESH-INTERVAL;VALUE=DURATION:PT1H
X-Robots-Tag:noindex
X-PUBLISHED-TTL:PT1H
BEGIN:VTIMEZONE
TZID:America/New_York
BEGIN:DAYLIGHT
TZOFFSETFROM:-0500
TZOFFSETTO:-0400
TZNAME:EDT
DTSTART:20180311T070000
END:DAYLIGHT
BEGIN:STANDARD
TZOFFSETFROM:-0400
TZOFFSETTO:-0500
TZNAME:EST
DTSTART:20181104T060000
END:STANDARD
END:VTIMEZONE
BEGIN:VEVENT
DTSTART;VALUE=DATE:20180420
DTEND;VALUE=DATE:20180422
DTSTAMP:20260420T090035
CREATED:20180415T212242Z
LAST-MODIFIED:20180415T212242Z
UID:7024-1524182400-1524355199@estherallen.com
SUMMARY:Conference: Cuba in War and Peace
DESCRIPTION:Keynote Speaker: Antonio José Ponte
URL:https://estherallen.com/event/conference-cuba-in-war-and-peace/
LOCATION:Temple University\, Paley Library\, 1210 W. Berks St.\, Philadelphia\, PA\, United States
GEO:39.9809391;-75.154457
X-APPLE-STRUCTURED-LOCATION;VALUE=URI;X-ADDRESS=Temple University Paley Library 1210 W. Berks St. Philadelphia PA United States;X-APPLE-RADIUS=500;X-TITLE=Paley Library\, 1210 W. Berks St.:geo:-75.154457,39.9809391
END:VEVENT
END:VCALENDAR