BEGIN:VCALENDAR
VERSION:2.0
PRODID:-//Esther Allen - ECPv6.15.1.1//NONSGML v1.0//EN
CALSCALE:GREGORIAN
METHOD:PUBLISH
X-ORIGINAL-URL:https://estherallen.com
X-WR-CALDESC:Events for Esther Allen
REFRESH-INTERVAL;VALUE=DURATION:PT1H
X-Robots-Tag:noindex
X-PUBLISHED-TTL:PT1H
BEGIN:VTIMEZONE
TZID:America/New_York
BEGIN:DAYLIGHT
TZOFFSETFROM:-0500
TZOFFSETTO:-0400
TZNAME:EDT
DTSTART:20140309T070000
END:DAYLIGHT
BEGIN:STANDARD
TZOFFSETFROM:-0400
TZOFFSETTO:-0500
TZNAME:EST
DTSTART:20141102T060000
END:STANDARD
BEGIN:DAYLIGHT
TZOFFSETFROM:-0500
TZOFFSETTO:-0400
TZNAME:EDT
DTSTART:20150308T070000
END:DAYLIGHT
BEGIN:STANDARD
TZOFFSETFROM:-0400
TZOFFSETTO:-0500
TZNAME:EST
DTSTART:20151101T060000
END:STANDARD
BEGIN:DAYLIGHT
TZOFFSETFROM:-0500
TZOFFSETTO:-0400
TZNAME:EDT
DTSTART:20160313T070000
END:DAYLIGHT
BEGIN:STANDARD
TZOFFSETFROM:-0400
TZOFFSETTO:-0500
TZNAME:EST
DTSTART:20161106T060000
END:STANDARD
END:VTIMEZONE
BEGIN:VEVENT
DTSTART;TZID=America/New_York:20161021T180000
DTEND;TZID=America/New_York:20161021T210000
DTSTAMP:20260421T075344
CREATED:20160805T222525Z
LAST-MODIFIED:20160805T222525Z
UID:6877-1477072800-1477083600@estherallen.com
SUMMARY:Gregory Rabassa (1922-2016)\, a Celebration
DESCRIPTION:Few figures have marked the English-language literature of our time as deeply as did Gregory Rabassa. Translator of Julio Cortázar’s Hopscotch (1966)\, Clarice Lispector’s The Apple in the Dark (1967)\, Gabriel García Márquez’s One Hundred Years of Solitude (1970)\,  Mario Vargas Llosa’s Conversation in the Cathedral (1974)\, Luis Rafael Sánchez’s Macho Camacho’s Beat (1980)\, Luisa Valenzuela’s The Lizard’s Tail (1983)\, José Lezama Lima’s Paradiso (2005)\, and more than fifty other works from Spanish and Portuguese—and himself the author of a number of books\, including his prize-winning memoir If This Be Treason (2005)— Rabassa was a beloved professor and colleague at City University of New York\, where he taught at the Graduate Center and Queens College for more than forty years. \nAmong the numerous honors Rabassa received were the National Book Award in Translation (1967)\, the Gregory Kolovakos Award for career achievement from PEN American Center (2001)\, the National Medal of Arts from the National Endowment for the Arts (2006)\, and the PEN/Martha Albrand Award for the Art of the Memoir (2006). “We Spanish-language writers\, especially of my generation\, owe him enormous gratitude for the way he helped us plant roots in the English-speaking world\,” wrote Mario Vargas Llosa earlier this year. \nSpeakers include Edith Grossman\, Peter Constantine\, Earl Fitz\, Ezra Fitz\, Esther Allen\, Ilan Stavans\, Mauricio Font\, Elizabeth Lowe\, Harry Morales\, Daniel Shapiro\, Nora Glickman\, Declan Spring\, Ammiel Alcalay\, Stanley Barkan\, Catarina Cordeiro\, David Draper Clark\, and Rabassa’s daughters Clara Rabassa and Kate Rabassa Wallen. \nIn addition\, the 14 recipients of the 2016 PEN/Heim Translation Fund grants\, who carry forward the tradition Rabassa did so much to consolidate\, will be announced and honored. \nA reception will follow.
URL:https://estherallen.com/event/gregory-rabassa-1922-2016-celebration/
LOCATION:Graduate Center\, City University of New York\, 5th Avenue and 34th Street\, New York\, United States
GEO:40.7484326;-73.9845368
X-APPLE-STRUCTURED-LOCATION;VALUE=URI;X-ADDRESS=Graduate Center City University of New York 5th Avenue and 34th Street New York United States;X-APPLE-RADIUS=500;X-TITLE=5th Avenue and 34th Street:geo:-73.9845368,40.7484326
END:VEVENT
BEGIN:VEVENT
DTSTART;TZID=America/New_York:20160506T140000
DTEND;TZID=America/New_York:20160506T160000
DTSTAMP:20260421T075344
CREATED:20160428T202127Z
LAST-MODIFIED:20160428T202127Z
UID:6508-1462543200-1462550400@estherallen.com
SUMMARY:Publishing in the Cross-Cultural Market
DESCRIPTION:Panel discussion with Earl Fitz\, Dana Khromov\, Norah Akharashi\, and Gorica Majstorovic\, moderated by Esther Allen.
URL:https://estherallen.com/event/publishing-cross-cultural-market/
LOCATION:Graduate Center\, City University of New York\, 5th Avenue and 34th Street\, New York\, United States
GEO:40.7484326;-73.9845368
X-APPLE-STRUCTURED-LOCATION;VALUE=URI;X-ADDRESS=Graduate Center City University of New York 5th Avenue and 34th Street New York United States;X-APPLE-RADIUS=500;X-TITLE=5th Avenue and 34th Street:geo:-73.9845368,40.7484326
END:VEVENT
BEGIN:VEVENT
DTSTART;TZID=America/New_York:20160413T160000
DTEND;TZID=America/New_York:20160413T180000
DTSTAMP:20260421T075344
CREATED:20160413T151030Z
LAST-MODIFIED:20160413T151150Z
UID:6506-1460563200-1460570400@estherallen.com
SUMMARY:Mellon Translation Seminar: The Perils of Polyglossia
DESCRIPTION:
URL:https://estherallen.com/event/mellon-translation-seminar-perils-polyglossia/
LOCATION:Graduate Center\, City University of New York\, 5th Avenue and 34th Street\, New York\, United States
GEO:40.7484326;-73.9845368
X-APPLE-STRUCTURED-LOCATION;VALUE=URI;X-ADDRESS=Graduate Center City University of New York 5th Avenue and 34th Street New York United States;X-APPLE-RADIUS=500;X-TITLE=5th Avenue and 34th Street:geo:-73.9845368,40.7484326
END:VEVENT
BEGIN:VEVENT
DTSTART;TZID=America/New_York:20140912T180000
DTEND;TZID=America/New_York:20140912T180000
DTSTAMP:20260421T075344
CREATED:20140827T023023Z
LAST-MODIFIED:20140827T023023Z
UID:6382-1410544800-1410544800@estherallen.com
SUMMARY:Antonio Di Benedetto\, from Exile to English
DESCRIPTION:
URL:https://estherallen.com/event/antonio-di-benedetto-exile-english/
LOCATION:Graduate Center\, City University of New York\, 5th Avenue and 34th Street\, New York\, United States
GEO:40.7484326;-73.9845368
X-APPLE-STRUCTURED-LOCATION;VALUE=URI;X-ADDRESS=Graduate Center City University of New York 5th Avenue and 34th Street New York United States;X-APPLE-RADIUS=500;X-TITLE=5th Avenue and 34th Street:geo:-73.9845368,40.7484326
END:VEVENT
END:VCALENDAR