BEGIN:VCALENDAR
VERSION:2.0
PRODID:-//Esther Allen - ECPv6.15.1.1//NONSGML v1.0//EN
CALSCALE:GREGORIAN
METHOD:PUBLISH
X-ORIGINAL-URL:https://estherallen.com
X-WR-CALDESC:Events for Esther Allen
REFRESH-INTERVAL;VALUE=DURATION:PT1H
X-Robots-Tag:noindex
X-PUBLISHED-TTL:PT1H
BEGIN:VTIMEZONE
TZID:America/New_York
BEGIN:DAYLIGHT
TZOFFSETFROM:-0500
TZOFFSETTO:-0400
TZNAME:EDT
DTSTART:20160313T070000
END:DAYLIGHT
BEGIN:STANDARD
TZOFFSETFROM:-0400
TZOFFSETTO:-0500
TZNAME:EST
DTSTART:20161106T060000
END:STANDARD
END:VTIMEZONE
BEGIN:VEVENT
DTSTART;VALUE=DATE:20160603
DTEND;VALUE=DATE:20160610
DTSTAMP:20260420T105501
CREATED:20160217T184114Z
LAST-MODIFIED:20160217T185101Z
UID:6495-1464912000-1465516799@estherallen.com
SUMMARY:Bread Loaf Translators' Conference
DESCRIPTION:Bread Loaf Translators’ Conference in Ripton\, Vermont\nJune 3 – 9\, 2016\nThe conference\, designed for both emerging and established translators\, includes translation workshops in poetry\, fiction\, and creative nonfiction\, as well as lectures\, craft classes\, meetings with editors and agents\, and readings by faculty and guests.\n2016 faculty: Esther Allen\, Geoffrey Brock\, Karen Emmerich\, Jennifer Grotz\, and David Hinton.\nTuition\, Room\, & Board: $2\,140; financial aid is available; $15 application fee.\nRolling admissions through March 15; apply early\, space is limited.\nblt@middlebury.edu\nwww.middlebury.edu/blwc/bltc
URL:https://estherallen.com/event/bread-loaf-translators-conference/
LOCATION:Middlebury College\, Bread Loaf Campus\, Ripton\, VT\, United States
GEO:43.973673;-73.0340033
END:VEVENT
END:VCALENDAR