BEGIN:VCALENDAR
VERSION:2.0
PRODID:-//Esther Allen - ECPv6.15.1.1//NONSGML v1.0//EN
CALSCALE:GREGORIAN
METHOD:PUBLISH
X-WR-CALNAME:Esther Allen
X-ORIGINAL-URL:https://estherallen.com
X-WR-CALDESC:Events for Esther Allen
REFRESH-INTERVAL;VALUE=DURATION:PT1H
X-Robots-Tag:noindex
X-PUBLISHED-TTL:PT1H
BEGIN:VTIMEZONE
TZID:America/New_York
BEGIN:DAYLIGHT
TZOFFSETFROM:-0500
TZOFFSETTO:-0400
TZNAME:EDT
DTSTART:20180311T070000
END:DAYLIGHT
BEGIN:STANDARD
TZOFFSETFROM:-0400
TZOFFSETTO:-0500
TZNAME:EST
DTSTART:20181104T060000
END:STANDARD
END:VTIMEZONE
BEGIN:VEVENT
DTSTART;TZID=America/New_York:20180418T190000
DTEND;TZID=America/New_York:20180418T203000
DTSTAMP:20260420T110021
CREATED:20180415T212713Z
LAST-MODIFIED:20180415T212713Z
UID:7028-1524078000-1524083400@estherallen.com
SUMMARY:Beyond Borges: Argentina's Unsung Literary Greats
DESCRIPTION:With Sergio Chejfec\, Heather Cleary\, Edwin Frank\, Charlotte Whittle and Esther Allen.
URL:https://estherallen.com/event/beyond-borges-argentinas-unsung-literary-greats/
LOCATION:Book Culture\, 26-09 Jackson Avenue\, Long Island City\, NY\, United States
GEO:40.7472235;-73.9423114
X-APPLE-STRUCTURED-LOCATION;VALUE=URI;X-ADDRESS=Book Culture 26-09 Jackson Avenue Long Island City NY United States;X-APPLE-RADIUS=500;X-TITLE=26-09 Jackson Avenue:geo:-73.9423114,40.7472235
END:VEVENT
END:VCALENDAR